BEGIN:VCALENDAR
VERSION:2.0
PRODID:-//Haderslev Lysfest - ECPv5.7.1//NONSGML v1.0//EN
CALSCALE:GREGORIAN
METHOD:PUBLISH
X-WR-CALNAME:Haderslev Lysfest
X-ORIGINAL-URL:https://haderslevlysfest.dk
X-WR-CALDESC:Events for Haderslev Lysfest
BEGIN:VTIMEZONE
TZID:Europe/Copenhagen
BEGIN:DAYLIGHT
TZOFFSETFROM:+0100
TZOFFSETTO:+0200
TZNAME:CEST
DTSTART:20260329T010000
END:DAYLIGHT
BEGIN:STANDARD
TZOFFSETFROM:+0200
TZOFFSETTO:+0100
TZNAME:CET
DTSTART:20261025T010000
END:STANDARD
END:VTIMEZONE
BEGIN:VEVENT
DTSTART;TZID=Europe/Copenhagen:20260504T205000
DTEND;TZID=Europe/Copenhagen:20260504T220000
DTSTAMP:20260422T105558
CREATED:20230302T160957Z
LAST-MODIFIED:20260126T080254Z
UID:1749-1777927800-1777932000@haderslevlysfest.dk
SUMMARY:Gå med i fakkeltog
DESCRIPTION:”Det er højtideligt\, nærmest rørende og en følelse af fællesskab. Historien kommer tættere på og dog man kan ikke lade være med at tænke på\, hvorfor det er vigtigt\, at vi husker og skønner på en dag som den 4. maj”. \nSådan beskrev en kvinde hendes oplevelse\, da hun sidste år for første gang sammen med hundredvis af andre deltog i fakkeltoget til Haderslev Lysfest. Fakkeloptogene er en mangeårig tradition og et eksempel på et af de mange stærke fællesskaber\, der er i Haderslev Kommune. \nTidligere var det spejderne og musikkorpsene\, der fik oplevelsen\, at gå med brændende fakler fra Gravene til kasernen. I de senere år har er fakkeltoget udvidet så alle\, der har lyst\, har mulighed for at deltage i fakkeltogene om aftenen den 4. maj. \nDer er faktisk to fakkeltog. De går hver sine ruten gennem byen\, men smelter sammen på Gravene. Her indgår begge fakkeltog i Tappenstregen\, som anført af Slesvigske Musikkorps går op til Lysfesten på Haderslev Kaserne. \nVil du gerne være en del af fakkeltoget den 4. maj\, skal du blot møde op ved Kulturhuset Bispen kl. 20.50. Her vil der være folk\, der tager imod dig og sørge for\, at du får en fakkel. \nFakkeltogets rute: \n\nWittenbergplads\nToftvej\nJomfrugang\nKlosteret\nTorvet\nApotekergade\nBispegade\nGravene
URL:https://haderslevlysfest.dk/programmer/gaa-med-i-fakkeltog/
LOCATION:Kulturhus Bispen\, Bispebroen 3\, Haderslev\, 6100\, Danmark
ATTACH;FMTTYPE=image/jpeg:https://haderslevlysfest.dk/wp-content/uploads/2023/03/Fakkeltog_torvet_Helene_Jürgensen.jpg
ORGANIZER;CN="Haderslev%20Lysfest":MAILTO:lysfest@haderslev.dk
END:VEVENT
END:VCALENDAR