BEGIN:VCALENDAR
VERSION:2.0
PRODID:-//Haderslev Lysfest - ECPv5.7.1//NONSGML v1.0//EN
CALSCALE:GREGORIAN
METHOD:PUBLISH
X-WR-CALNAME:Haderslev Lysfest
X-ORIGINAL-URL:https://haderslevlysfest.dk
X-WR-CALDESC:Events for Haderslev Lysfest
BEGIN:VTIMEZONE
TZID:Europe/Copenhagen
BEGIN:DAYLIGHT
TZOFFSETFROM:+0100
TZOFFSETTO:+0200
TZNAME:CEST
DTSTART:20260329T010000
END:DAYLIGHT
BEGIN:STANDARD
TZOFFSETFROM:+0200
TZOFFSETTO:+0100
TZNAME:CET
DTSTART:20261025T010000
END:STANDARD
END:VTIMEZONE
BEGIN:VEVENT
DTSTART;TZID=Europe/Copenhagen:20260504T203000
DTEND;TZID=Europe/Copenhagen:20260504T220000
DTSTAMP:20260421T134518
CREATED:20180416T122050Z
LAST-MODIFIED:20260126T080338Z
UID:643-1777926600-1777932000@haderslevlysfest.dk
SUMMARY:Tænder lys i gaderne
DESCRIPTION:Haderslev Butikker sætter byen i den helt rette lysfeststemning\, når de markerer årsdagen for Danmarks Befrielse ved at sætte ikke færre end 365 levende lys i gaderne. \nDe levende lys viser ruten fakkeltogene sammen aften går gennem gaderne på vej til Gravene og senere til Haderslev Kaserne.
URL:https://haderslevlysfest.dk/programmer/taender-lys-i-gaderne/
LOCATION:Haderslev by
ATTACH;FMTTYPE=image/jpeg:https://haderslevlysfest.dk/wp-content/uploads/2018/04/lysigaderne_web.jpg
END:VEVENT
END:VCALENDAR